BEGIN:VCALENDAR
VERSION:2.0
PRODID:-//Moon Village Association - ECPv6.15.20//NONSGML v1.0//EN
CALSCALE:GREGORIAN
METHOD:PUBLISH
X-WR-CALNAME:Moon Village Association
X-ORIGINAL-URL:https://moonvillageassociation.org
X-WR-CALDESC:Events for Moon Village Association
REFRESH-INTERVAL;VALUE=DURATION:PT1H
X-Robots-Tag:noindex
X-PUBLISHED-TTL:PT1H
BEGIN:VTIMEZONE
TZID:Europe/Paris
BEGIN:DAYLIGHT
TZOFFSETFROM:+0100
TZOFFSETTO:+0200
TZNAME:CEST
DTSTART:20250330T010000
END:DAYLIGHT
BEGIN:STANDARD
TZOFFSETFROM:+0200
TZOFFSETTO:+0100
TZNAME:CET
DTSTART:20251026T010000
END:STANDARD
BEGIN:DAYLIGHT
TZOFFSETFROM:+0100
TZOFFSETTO:+0200
TZNAME:CEST
DTSTART:20260329T010000
END:DAYLIGHT
BEGIN:STANDARD
TZOFFSETFROM:+0200
TZOFFSETTO:+0100
TZNAME:CET
DTSTART:20261025T010000
END:STANDARD
BEGIN:DAYLIGHT
TZOFFSETFROM:+0100
TZOFFSETTO:+0200
TZNAME:CEST
DTSTART:20270328T010000
END:DAYLIGHT
BEGIN:STANDARD
TZOFFSETFROM:+0200
TZOFFSETTO:+0100
TZNAME:CET
DTSTART:20271031T010000
END:STANDARD
END:VTIMEZONE
BEGIN:VEVENT
DTSTART;TZID=Europe/Paris:20260428T170000
DTEND;TZID=Europe/Paris:20260428T183000
DTSTAMP:20260423T115355
CREATED:20260421T150420Z
LAST-MODIFIED:20260422T105352Z
UID:10304-1777395600-1777401000@moonvillageassociation.org
SUMMARY:Cultural Considerations WG webinar - What is the philosophy of space and why is it important? 
DESCRIPTION:Free Regisatration \n\n\n\nhttps://us02web.zoom.us/webinar/register/WN_8SDw6NSwQ4e5QsIhPCNzgg \n\n\n\nAgenda\n\n\n\n\nRemo Rapetti: Welcome address\n\n\n\nChristopher Cokinos: Introduction\n\n\n\nRebecca Lowe: The Philosophy of Space: Opportunity\, Value\, and Obligation\n\n\n\n\n“How should property ownership work in space? How should human space experience be regulated? What obligations do humans have to non-human life in space? These three questions offer a route into conceiving of space as a special source of philosophical enquiry.” (Rebecca Lowe) \n\n\n\nRebecca Lowe is Philosophy Senior Research Fellow at the Mercatus Center\, where she is also Director of Emerging Scholars. She is working on two books: ‘Freedom in Utopia’\, and ‘Speaking Freely’. She writes a Substack called ‘the ends don’t justify the means’\, and hosts a podcast called ‘Working Definition’. She often writes about space\, and until recently served as Consulting Space Philosopher for a strategic space advisory firm. Her space publications include an article on the value of space activity for Economic Affairs\, a follow-up piece for the American Philosophical Association blog on the value of private space activity\, and a paper for the Adam Smith Institute on lunar property rights. Other highlights have included appearing on the Planetary Society’s podcast\, and giving a keynote talk for the Flight Software Workshop at Johns Hopkins.
URL:https://moonvillageassociation.org/event/cultural-considerations-wg-webinar-what-is-the-philosophy-of-space-and-why-is-it-important/
CATEGORIES:Webinars
ATTACH;FMTTYPE=image/jpeg:https://moonvillageassociation.org/wp-content/uploads/2026/04/poster-14.jpg
END:VEVENT
END:VCALENDAR