BEGIN:VCALENDAR
VERSION:2.0
PRODID:-//Moon Village Association - ECPv6.15.20//NONSGML v1.0//EN
CALSCALE:GREGORIAN
METHOD:PUBLISH
X-ORIGINAL-URL:https://moonvillageassociation.org
X-WR-CALDESC:Events for Moon Village Association
REFRESH-INTERVAL;VALUE=DURATION:PT1H
X-Robots-Tag:noindex
X-PUBLISHED-TTL:PT1H
BEGIN:VTIMEZONE
TZID:Europe/Paris
BEGIN:DAYLIGHT
TZOFFSETFROM:+0100
TZOFFSETTO:+0200
TZNAME:CEST
DTSTART:20220327T010000
END:DAYLIGHT
BEGIN:STANDARD
TZOFFSETFROM:+0200
TZOFFSETTO:+0100
TZNAME:CET
DTSTART:20221030T010000
END:STANDARD
BEGIN:DAYLIGHT
TZOFFSETFROM:+0100
TZOFFSETTO:+0200
TZNAME:CEST
DTSTART:20230326T010000
END:DAYLIGHT
BEGIN:STANDARD
TZOFFSETFROM:+0200
TZOFFSETTO:+0100
TZNAME:CET
DTSTART:20231029T010000
END:STANDARD
BEGIN:DAYLIGHT
TZOFFSETFROM:+0100
TZOFFSETTO:+0200
TZNAME:CEST
DTSTART:20240331T010000
END:DAYLIGHT
BEGIN:STANDARD
TZOFFSETFROM:+0200
TZOFFSETTO:+0100
TZNAME:CET
DTSTART:20241027T010000
END:STANDARD
END:VTIMEZONE
BEGIN:VEVENT
DTSTART;TZID=Europe/Paris:20230320T120000
DTEND;TZID=Europe/Paris:20230320T170000
DTSTAMP:20260426T025209
CREATED:20230310T100733Z
LAST-MODIFIED:20230310T100736Z
UID:6952-1679313600-1679331600@moonvillageassociation.org
SUMMARY:UN-COPUOS LSC - The First International Moon Day Results and Outlook for 2023
DESCRIPTION:
URL:https://moonvillageassociation.org/event/un-copuos-lsc-the-first-international-moon-day-results-and-outlook-for-2023/
END:VEVENT
BEGIN:VEVENT
DTSTART;TZID=Europe/Paris:20230322T120000
DTEND;TZID=Europe/Paris:20230322T170000
DTSTAMP:20260426T025209
CREATED:20230310T100826Z
LAST-MODIFIED:20230310T100830Z
UID:6954-1679486400-1679504400@moonvillageassociation.org
SUMMARY:UN-COPUOS LSC - The Lunar Commerce Portfolio Report - Main ResultsUN-COPUOS LSC
DESCRIPTION:
URL:https://moonvillageassociation.org/event/un-copuos-lsc-the-lunar-commerce-portfolio-report-main-resultsun-copuos-lsc/
END:VEVENT
BEGIN:VEVENT
DTSTART;TZID=Europe/Paris:20230322T180000
DTEND;TZID=Europe/Paris:20230322T193000
DTSTAMP:20260426T025209
CREATED:20230306T103819Z
LAST-MODIFIED:20230320T134805Z
UID:6929-1679508000-1679513400@moonvillageassociation.org
SUMMARY:Cultural Considerations WG webinar - The Deep Space Effect\, Culture And The Human Space Program
DESCRIPTION:An in-depth webinar on the possible effects of humanity’s encounter with deep space. After the first space flights and the first testimonies of the astronauts on the Overview Effect\, pacifist and ecological movements have developed on a large scale. How will global society react when space travel multiplies and travelers report their impressions of the immensity of the cosmic void? Will they choose the universalist sentiments reported by Edgar Mitchell or will they espouse the pessimistic vision of William Shatner? In this webinar\, space philosopher and author of seminal books\, Frank White\, will focus on probable cultural shifts and how to organize the next space exploration fairly and sustainably. \n\n\n\nIntroduction:Remo Rapetti \n\n\n\nKey Speaker:Frank White\, space philosopher and author \n\n\n\nComments and questions by:Giuseppe Reibaldi\, President\, MVAGiulio Prisco\, futurist\, cosmist and authorStefano Catucci\, philosopher and author \n\n\n\nQ&A session:Arthur Woods \n\n\n\nRegistration: \n\n\n\n\nRegister
URL:https://moonvillageassociation.org/event/cultural-considerations-wg-webinar-the-deep-space-effect-culture-and-the-human-space-program/
END:VEVENT
BEGIN:VEVENT
DTSTART;TZID=Europe/Paris:20230327T080000
DTEND;TZID=Europe/Paris:20230327T120000
DTSTAMP:20260426T025209
CREATED:20230310T101025Z
LAST-MODIFIED:20230310T101027Z
UID:6956-1679904000-1679918400@moonvillageassociation.org
SUMMARY:UN-COPUOS LSC - MVA Technical Presentation
DESCRIPTION:
URL:https://moonvillageassociation.org/event/un-copuos-lsc-mva-technical-presentation/
END:VEVENT
END:VCALENDAR