BEGIN:VCALENDAR
VERSION:2.0
PRODID:-//Moon Village Association - ECPv6.15.20//NONSGML v1.0//EN
CALSCALE:GREGORIAN
METHOD:PUBLISH
X-ORIGINAL-URL:https://moonvillageassociation.org
X-WR-CALDESC:Events for Moon Village Association
REFRESH-INTERVAL;VALUE=DURATION:PT1H
X-Robots-Tag:noindex
X-PUBLISHED-TTL:PT1H
BEGIN:VTIMEZONE
TZID:Europe/Paris
BEGIN:DAYLIGHT
TZOFFSETFROM:+0100
TZOFFSETTO:+0200
TZNAME:CEST
DTSTART:20220327T010000
END:DAYLIGHT
BEGIN:STANDARD
TZOFFSETFROM:+0200
TZOFFSETTO:+0100
TZNAME:CET
DTSTART:20221030T010000
END:STANDARD
BEGIN:DAYLIGHT
TZOFFSETFROM:+0100
TZOFFSETTO:+0200
TZNAME:CEST
DTSTART:20230326T010000
END:DAYLIGHT
BEGIN:STANDARD
TZOFFSETFROM:+0200
TZOFFSETTO:+0100
TZNAME:CET
DTSTART:20231029T010000
END:STANDARD
BEGIN:DAYLIGHT
TZOFFSETFROM:+0100
TZOFFSETTO:+0200
TZNAME:CEST
DTSTART:20240331T010000
END:DAYLIGHT
BEGIN:STANDARD
TZOFFSETFROM:+0200
TZOFFSETTO:+0100
TZNAME:CET
DTSTART:20241027T010000
END:STANDARD
END:VTIMEZONE
BEGIN:VEVENT
DTSTART;TZID=Europe/Paris:20230421T090000
DTEND;TZID=Europe/Paris:20230421T143000
DTSTAMP:20260426T011352
CREATED:20230421T070701Z
LAST-MODIFIED:20230421T071218Z
UID:7237-1682067600-1682087400@moonvillageassociation.org
SUMMARY:Luxembourg Space Resources Week 2023 - GEGSLA Presentation
DESCRIPTION:More info and registration:https://www.spaceresourcesweek.lu
URL:https://moonvillageassociation.org/event/luxembourg-space-resources-week-2023-gegsla-presentation/
END:VEVENT
END:VCALENDAR