BEGIN:VCALENDAR
VERSION:2.0
PRODID:-//Moon Village Association - ECPv6.15.20//NONSGML v1.0//EN
CALSCALE:GREGORIAN
METHOD:PUBLISH
X-WR-CALNAME:Moon Village Association
X-ORIGINAL-URL:https://moonvillageassociation.org
X-WR-CALDESC:Events for Moon Village Association
REFRESH-INTERVAL;VALUE=DURATION:PT1H
X-Robots-Tag:noindex
X-PUBLISHED-TTL:PT1H
BEGIN:VTIMEZONE
TZID:Asia/Kolkata
BEGIN:STANDARD
TZOFFSETFROM:+0530
TZOFFSETTO:+0530
TZNAME:IST
DTSTART:20220101T000000
END:STANDARD
END:VTIMEZONE
BEGIN:VTIMEZONE
TZID:UTC
BEGIN:STANDARD
TZOFFSETFROM:+0000
TZOFFSETTO:+0000
TZNAME:UTC
DTSTART:20220101T000000
END:STANDARD
END:VTIMEZONE
BEGIN:VEVENT
DTSTART;TZID=Asia/Kolkata:20230801T160000
DTEND;TZID=Asia/Kolkata:20230801T170000
DTSTAMP:20260425T181253
CREATED:20230731T075112Z
LAST-MODIFIED:20230801T092351Z
UID:7791-1690905600-1690909200@moonvillageassociation.org
SUMMARY:ISRO-MVA Video competition Award Ceremony 
DESCRIPTION:Join us on August 1st at 16:00 IST to honor the winners of the ISRO-MVA Video Competition\n\n\n\n\n\n\n\nThe agenda of the ceremony would be as follows:\n\n\n\n\nSpeech ISRO Director CBPO Mr Sudheer Kumar N.\n\n\n\nSpeech MVA president Mr Giuseppe Reibaldi\n\n\n\nAnnoucement of winners by MVA Outreach Coordinator Pavithra Manghaipathy\n\n\n\nVideo broadcasting of Category \n\n\n\nA winners Video broadcasting of Category B winners\n\n\n\nThankyou Speech by MVA South Asia Regional Coordinator Nidhi Vasaikar
URL:https://moonvillageassociation.org/event/isro-mva-video-competition-award-ceremony/
ATTACH;FMTTYPE=image/jpeg:https://moonvillageassociation.org/wp-content/uploads/2023/07/unnamed-5.jpg
END:VEVENT
BEGIN:VEVENT
DTSTART;TZID=UTC:20230811T080000
DTEND;TZID=UTC:20230813T170000
DTSTAMP:20260425T181253
CREATED:20230730T151536Z
LAST-MODIFIED:20230730T151659Z
UID:7785-1691740800-1691946000@moonvillageassociation.org
SUMMARY:MVA Hackathon 2023: Robotics & AI in a Moon Village 
DESCRIPTION:This year MVA are collaborating with the the MetaArchitectsHUB to give all participants access to a 3D metaverse! Participants will be able to place 3D models of their robots in a virtual 3D environment of the lunar surface. \n\n\n\nSign up for our Hackathon to design a robot with integrated AI capabilities to work on a Moon Village! You can walk around your robot as it stands on the lunar surface and winners will be able to get expert advice to perfect their designs and take it to the next level at conferences!  \n\n\n\nThere will be guides on how to work with the metaverse\, how to create efficient 3D models and also how to win a hackathon! (Thanks to our collaboration with The Dream Academy!)  \n\n\n\nDates – August 11-13 (details on lectures to follow)  \n\n\n\nRegister now! \n\n\n\nhttps://docs.google.com/forms/d/e/1FAIpQLScIe2GfBRNvqwbYdZaNrs3AVtdgGOBy0X1J8G-tvoyiX08n5g/viewform
URL:https://moonvillageassociation.org/event/mva-hackathon-2023-robotics-ai-in-a-moon-village/
CATEGORIES:Workshops
ATTACH;FMTTYPE=image/jpeg:https://moonvillageassociation.org/wp-content/uploads/2023/07/unnamed-4.jpg
END:VEVENT
END:VCALENDAR