BEGIN:VCALENDAR
VERSION:2.0
PRODID:-//Moon Village Association - ECPv6.15.20//NONSGML v1.0//EN
CALSCALE:GREGORIAN
METHOD:PUBLISH
X-WR-CALNAME:Moon Village Association
X-ORIGINAL-URL:https://moonvillageassociation.org
X-WR-CALDESC:Events for Moon Village Association
REFRESH-INTERVAL;VALUE=DURATION:PT1H
X-Robots-Tag:noindex
X-PUBLISHED-TTL:PT1H
BEGIN:VTIMEZONE
TZID:Asia/Kolkata
BEGIN:STANDARD
TZOFFSETFROM:+0530
TZOFFSETTO:+0530
TZNAME:IST
DTSTART:20220101T000000
END:STANDARD
END:VTIMEZONE
BEGIN:VTIMEZONE
TZID:Europe/Paris
BEGIN:DAYLIGHT
TZOFFSETFROM:+0100
TZOFFSETTO:+0200
TZNAME:CEST
DTSTART:20220327T010000
END:DAYLIGHT
BEGIN:STANDARD
TZOFFSETFROM:+0200
TZOFFSETTO:+0100
TZNAME:CET
DTSTART:20221030T010000
END:STANDARD
BEGIN:DAYLIGHT
TZOFFSETFROM:+0100
TZOFFSETTO:+0200
TZNAME:CEST
DTSTART:20230326T010000
END:DAYLIGHT
BEGIN:STANDARD
TZOFFSETFROM:+0200
TZOFFSETTO:+0100
TZNAME:CET
DTSTART:20231029T010000
END:STANDARD
BEGIN:DAYLIGHT
TZOFFSETFROM:+0100
TZOFFSETTO:+0200
TZNAME:CEST
DTSTART:20240331T010000
END:DAYLIGHT
BEGIN:STANDARD
TZOFFSETFROM:+0200
TZOFFSETTO:+0100
TZNAME:CET
DTSTART:20241027T010000
END:STANDARD
END:VTIMEZONE
BEGIN:VTIMEZONE
TZID:Europe/Rome
BEGIN:DAYLIGHT
TZOFFSETFROM:+0100
TZOFFSETTO:+0200
TZNAME:CEST
DTSTART:20220327T010000
END:DAYLIGHT
BEGIN:STANDARD
TZOFFSETFROM:+0200
TZOFFSETTO:+0100
TZNAME:CET
DTSTART:20221030T010000
END:STANDARD
BEGIN:DAYLIGHT
TZOFFSETFROM:+0100
TZOFFSETTO:+0200
TZNAME:CEST
DTSTART:20230326T010000
END:DAYLIGHT
BEGIN:STANDARD
TZOFFSETFROM:+0200
TZOFFSETTO:+0100
TZNAME:CET
DTSTART:20231029T010000
END:STANDARD
BEGIN:DAYLIGHT
TZOFFSETFROM:+0100
TZOFFSETTO:+0200
TZNAME:CEST
DTSTART:20240331T010000
END:DAYLIGHT
BEGIN:STANDARD
TZOFFSETFROM:+0200
TZOFFSETTO:+0100
TZNAME:CET
DTSTART:20241027T010000
END:STANDARD
END:VTIMEZONE
BEGIN:VEVENT
DTSTART;TZID=Asia/Kolkata:20230913T160000
DTEND;TZID=Asia/Kolkata:20230913T170000
DTSTAMP:20260425T163549
CREATED:20230907T172021Z
LAST-MODIFIED:20230910T091058Z
UID:7905-1694620800-1694624400@moonvillageassociation.org
SUMMARY:ISRO - MVA webinar: Challenges in Lunar Landing
DESCRIPTION:Bio of Speaker : \n\n\n\nShri Senthil Kumar G is currently working as Deputy Project Director\, Mechanical Systems of Chandrayaan-3 Project in U R Rao Satellite Centre\, ISRO. He has pursued Mechanical Engineering in College of Engineering\, Guindy\, Anna University. He has rich experience in systems engineering of spacecraft. He has played a major role in configuration and realisation of Chandrayaan-3 & Chandrayaan-2 spacecrafts. His significant contribution also includes performance evaluation testing of Lunar Lander systems in Earth environment for Chandrayaan Landing Missions. \n\n\n\n\nhttps://youtube.com/live/PLDSIbRfSeQ
URL:https://moonvillageassociation.org/event/isro-mva-webinar-challenges-in-lunar-landing/
CATEGORIES:Webinars
ATTACH;FMTTYPE=image/jpeg:https://moonvillageassociation.org/wp-content/uploads/2023/09/WhatsApp-Image-2023-09-08-at-17.10.18.jpeg
END:VEVENT
BEGIN:VEVENT
DTSTART;TZID=Europe/Paris:20230920T100000
DTEND;TZID=Europe/Paris:20230920T123000
DTSTAMP:20260425T163549
CREATED:20230919T085328Z
LAST-MODIFIED:20230919T151608Z
UID:7917-1695204000-1695213000@moonvillageassociation.org
SUMMARY:GEGSLA at the UN Science Summit
DESCRIPTION:Event Title: Recommended Framework for Sustainable Lunar Activities: Potential Contribution to the UN SDGs and the Summit for the Future \n\n\n\nDate: September 20\, 2023Time: 16:00 – 18:30 CEST \n\n\n\nRegistration: https://sciencesummitunga78.sched.com/event/1O4pe \n\n\n\nDiscover how the Moon Village Association (MVA) and its Global Expert Group for Sustainable Lunar Activities (GEGSLA) are shaping the future of lunar exploration. Gain insights into the GEGSLA Recommended Framework\, its key elements for peaceful and sustainable lunar activities\, and its relevance to United Nations Policy Brief 7. \n\n\n\nExplore the intersections between the GEGSLA Framework\, the UN Sustainable Development Goals (SDGs)\, and the Summit for the Future. Engage with leading experts and participate in a lively Q&A session! \n\n\n\nDon’t miss this unique opportunity to be part of the discussion on lunar sustainability and its potential contributions to the UN SDGs. \n\n\n\n\n\n\n\nGEGSLA-UN-Science-Summit-Event-Agenda-1Download
URL:https://moonvillageassociation.org/event/gegsla-at-the-un-science-summit/
CATEGORIES:Side Events
ATTACH;FMTTYPE=image/png:https://moonvillageassociation.org/wp-content/uploads/2023/09/1693237006886.png
END:VEVENT
BEGIN:VEVENT
DTSTART;TZID=Europe/Rome:20230921T133000
DTEND;TZID=Europe/Rome:20230921T144000
DTSTAMP:20260425T163549
CREATED:20230921T094129Z
LAST-MODIFIED:20230921T094131Z
UID:7940-1695303000-1695307200@moonvillageassociation.org
SUMMARY:MVA Italia participation at the Space Education & Strategic Applications  2023 Conference
DESCRIPTION:The First MVA Italian Summer School\, by the MVA Italy during the IMD 2023 \, will be the subject of a panel in the following conference: \n\n\n\n\nSpace Education & Strategic Applications\n\n\n\n\nThe event is free and open to the public \n\n\n\nLinks for registration and the program are on the conference homepage: https://ipsonet.org/conferences/space-education-and-strategic-applications/  \n\n\n\nThe MVA panel will be on 21 of September at 1:30-2:40 PM EDT 
URL:https://moonvillageassociation.org/event/mva-italia-participation-at-the-space-education-strategic-applications-2023-conference/
END:VEVENT
END:VCALENDAR