BEGIN:VCALENDAR
VERSION:2.0
PRODID:-//Moon Village Association - ECPv6.15.20//NONSGML v1.0//EN
CALSCALE:GREGORIAN
METHOD:PUBLISH
X-WR-CALNAME:Moon Village Association
X-ORIGINAL-URL:https://moonvillageassociation.org
X-WR-CALDESC:Events for Moon Village Association
REFRESH-INTERVAL;VALUE=DURATION:PT1H
X-Robots-Tag:noindex
X-PUBLISHED-TTL:PT1H
BEGIN:VTIMEZONE
TZID:UTC
BEGIN:STANDARD
TZOFFSETFROM:+0000
TZOFFSETTO:+0000
TZNAME:UTC
DTSTART:20220101T000000
END:STANDARD
END:VTIMEZONE
BEGIN:VEVENT
DTSTART;TZID=UTC:20231003T101500
DTEND;TZID=UTC:20231003T124500
DTSTAMP:20260425T150119
CREATED:20230920T095706Z
LAST-MODIFIED:20230920T095709Z
UID:7934-1696328100-1696337100@moonvillageassociation.org
SUMMARY:MVA participation at the IAC in Baku - Session D4.2
DESCRIPTION:Contribution of Moon Village to Solving Global Societal Issues\n\n\n\nDescription \n\n\n\nMoon Village is a concept that brings together efforts\, world-wide\, from the private sector\, governments\, academics and others to explore and use the Moon in a sustainable manner. Moon Village is a community of projects carried out by stakeholders from different fields (for example\, technical\, scientific\, cultural\, economic) working together. The implementation of the Moon Village has already started with missions and activities in line with its spirit\, It is a major step forward for the peaceful development of humankind. Moon Village can offer a new start to humanity on the Moon and on the Earth by contributing to solve global societal issues. The session will discuss the contributions of the Moon Village to the solution of global challenges (e.g.\, energy\, population\, sustainable development\, many others). How the Moon Village will support the understanding of the global societal issues and bring benefits to society on a global scale will also be discussed. The session will include also the identification of the related technologies that need to be developed. The definition of a roadmap complementary to the UN Agenda 2030 will be also discussed.Date: 2023-10-03Time: 10:15Room: BCC Balcony C2IPC members \n\n\n\n\nCo-Chair: Dr. Giuseppe Reibaldi\, Moon Village Association (MVA)\, Austria;\n\n\n\nCo-Chair: Prof. Yu Lu\, China Academy of Launch Vehicle Technology\, China\, China;\n\n\n\nRapporteur: Ms. Paivi Jukola\, Aalto University\, Finland;\n\n\n\n\nMore info and papers: https://iafastro.directory/iac/browse/IAC-23/D4/2/
URL:https://moonvillageassociation.org/event/mva-participation-at-the-iac-in-baku-session-d4-2/
CATEGORIES:Conferences
END:VEVENT
END:VCALENDAR