BEGIN:VCALENDAR
VERSION:2.0
PRODID:-//Moon Village Association - ECPv6.15.20//NONSGML v1.0//EN
CALSCALE:GREGORIAN
METHOD:PUBLISH
X-ORIGINAL-URL:https://moonvillageassociation.org
X-WR-CALDESC:Events for Moon Village Association
REFRESH-INTERVAL;VALUE=DURATION:PT1H
X-Robots-Tag:noindex
X-PUBLISHED-TTL:PT1H
BEGIN:VTIMEZONE
TZID:Europe/Paris
BEGIN:DAYLIGHT
TZOFFSETFROM:+0100
TZOFFSETTO:+0200
TZNAME:CEST
DTSTART:20230326T010000
END:DAYLIGHT
BEGIN:STANDARD
TZOFFSETFROM:+0200
TZOFFSETTO:+0100
TZNAME:CET
DTSTART:20231029T010000
END:STANDARD
BEGIN:DAYLIGHT
TZOFFSETFROM:+0100
TZOFFSETTO:+0200
TZNAME:CEST
DTSTART:20240331T010000
END:DAYLIGHT
BEGIN:STANDARD
TZOFFSETFROM:+0200
TZOFFSETTO:+0100
TZNAME:CET
DTSTART:20241027T010000
END:STANDARD
BEGIN:DAYLIGHT
TZOFFSETFROM:+0100
TZOFFSETTO:+0200
TZNAME:CEST
DTSTART:20250330T010000
END:DAYLIGHT
BEGIN:STANDARD
TZOFFSETFROM:+0200
TZOFFSETTO:+0100
TZNAME:CET
DTSTART:20251026T010000
END:STANDARD
END:VTIMEZONE
BEGIN:VTIMEZONE
TZID:America/Sao_Paulo
BEGIN:STANDARD
TZOFFSETFROM:-0300
TZOFFSETTO:-0300
TZNAME:-03
DTSTART:20230101T000000
END:STANDARD
END:VTIMEZONE
BEGIN:VEVENT
DTSTART;TZID=Europe/Paris:20240613T170000
DTEND;TZID=Europe/Paris:20240613T180000
DTSTAMP:20260425T001136
CREATED:20240603T080308Z
LAST-MODIFIED:20240603T080312Z
UID:8756-1718298000-1718301600@moonvillageassociation.org
SUMMARY:MVA General Assembly
DESCRIPTION:The MVA General Assembly will take place on Thursday\, June 13 2024\, at 17:00-18:00 CEST. \n\n\n\nMVA Members will receive an invitation via email.
URL:https://moonvillageassociation.org/event/mva-general-assembly-3/
CATEGORIES:Calls
END:VEVENT
BEGIN:VEVENT
DTSTART;TZID=Europe/Paris:20240618T173000
DTEND;TZID=Europe/Paris:20240618T190000
DTSTAMP:20260425T001136
CREATED:20240606T140839Z
LAST-MODIFIED:20240606T140842Z
UID:8818-1718731800-1718737200@moonvillageassociation.org
SUMMARY:Cultural WG webinar - Alternative Visions of Space Exploration
DESCRIPTION:“The most important lesson we learned from our first forays beyond our thin atmosphere was that we are in this together. We overcame gravity by working collectively toward an aligned goal. That same force must now allow us to overcome political and policy differences that are driven by circumstances such as what we look like\, where we live\, and who we love. Keeping our shared goals in mind can give us the ability to explore space for the benefit of all.” \n\n\n\n(Lori Garver\, Foreword to Schwartz\, James S.J.; Billings\, Linda; Nesvold\, Erika. Reclaiming Space: Progressive and Multicultural Visions of Space Exploration\,  Oxford University Press.)  \n\n\n\nAgenda:\n\n\n\n\nIntroduction: Remo Rapetti\n\n\n\nJS Johnson-Schwartz: Reflections on “Reclaiming Space”.\n\n\n\nErika Nesvold: Culture on the Moon: The Practical and Ethical Value of Including Diverse Cultural Perspectives in Space Exploration.\n\n\n\nComments and questions: Giulio Prisco\, futurist\, cosmist\, author\n\n\n\n\nRegistration\n\n\n\n\nRegister on Zoom\n\n\n\n\nSpeakers\n\n\n\nJS Johnson-Schwartz is Associate Professor of Philosophy at Wichita State University where she teaches courses on the ethics of space exploration\, engineering ethics\, environmental ethics\, and logic. Her research focuses on the ethics of space exploration and the philosophy of disability. She is author of The Value of Science in Space Exploration (Oxford University Press\, 2020)\, and lead-editor of Reclaiming Space: Progressive and Multicultural Visions of Space Exploration (Oxford University Press\, 2023) and The Ethics of Space Exploration (Springer\, 2016). \n\n\n\nErika Nesvold is an astrophysicist who has worked as a researcher at NASA Goddard and the Carnegie Institution for Science. She is a developer for Universe Sandbox\, a physics-based space simulator; cofounder of the nonprofit organization the JustSpace Alliance; and the creator and host of the podcast Making New Worlds. She is also the author of Off-Earth: Ethical Questions and Quandaries for Living in Outer Space and co-editor of Reclaiming Space: Progressive and Multicultural Visions of Space Exploration.
URL:https://moonvillageassociation.org/event/cultural-wg-webinar-alternative-visions-of-space-exploration/
CATEGORIES:Webinars
ATTACH;FMTTYPE=image/jpeg:https://moonvillageassociation.org/wp-content/uploads/2024/06/poster-final.jpg
END:VEVENT
BEGIN:VEVENT
DTSTART;TZID=America/Sao_Paulo:20240626T163000
DTEND;TZID=America/Sao_Paulo:20240626T180000
DTSTAMP:20260425T001136
CREATED:20240619T112009Z
LAST-MODIFIED:20240620T065939Z
UID:8855-1719419400-1719424800@moonvillageassociation.org
SUMMARY:V Seminar on Space and Extreme Environment Research
DESCRIPTION:This webinar is part of th activities of the Lunar Human Physiology & Biology WG \n\n\n\n\nRegister to participate
URL:https://moonvillageassociation.org/event/v-seminar-on-space-and-extreme-environment-research/
CATEGORIES:Webinars
ATTACH;FMTTYPE=image/jpeg:https://moonvillageassociation.org/wp-content/uploads/2024/06/S2-1.jpg
END:VEVENT
END:VCALENDAR