BEGIN:VCALENDAR
VERSION:2.0
PRODID:-//Moon Village Association - ECPv6.15.20//NONSGML v1.0//EN
CALSCALE:GREGORIAN
METHOD:PUBLISH
X-WR-CALNAME:Moon Village Association
X-ORIGINAL-URL:https://moonvillageassociation.org
X-WR-CALDESC:Events for Moon Village Association
REFRESH-INTERVAL;VALUE=DURATION:PT1H
X-Robots-Tag:noindex
X-PUBLISHED-TTL:PT1H
BEGIN:VTIMEZONE
TZID:Europe/Paris
BEGIN:DAYLIGHT
TZOFFSETFROM:+0100
TZOFFSETTO:+0200
TZNAME:CEST
DTSTART:20230326T010000
END:DAYLIGHT
BEGIN:STANDARD
TZOFFSETFROM:+0200
TZOFFSETTO:+0100
TZNAME:CET
DTSTART:20231029T010000
END:STANDARD
BEGIN:DAYLIGHT
TZOFFSETFROM:+0100
TZOFFSETTO:+0200
TZNAME:CEST
DTSTART:20240331T010000
END:DAYLIGHT
BEGIN:STANDARD
TZOFFSETFROM:+0200
TZOFFSETTO:+0100
TZNAME:CET
DTSTART:20241027T010000
END:STANDARD
BEGIN:DAYLIGHT
TZOFFSETFROM:+0100
TZOFFSETTO:+0200
TZNAME:CEST
DTSTART:20250330T010000
END:DAYLIGHT
BEGIN:STANDARD
TZOFFSETFROM:+0200
TZOFFSETTO:+0100
TZNAME:CET
DTSTART:20251026T010000
END:STANDARD
END:VTIMEZONE
BEGIN:VTIMEZONE
TZID:UTC
BEGIN:STANDARD
TZOFFSETFROM:+0000
TZOFFSETTO:+0000
TZNAME:UTC
DTSTART:20230101T000000
END:STANDARD
END:VTIMEZONE
BEGIN:VEVENT
DTSTART;TZID=Europe/Paris:20240919T170000
DTEND;TZID=Europe/Paris:20240919T183000
DTSTAMP:20260424T181140
CREATED:20240809T144725Z
LAST-MODIFIED:20240905T070218Z
UID:8936-1726765200-1726770600@moonvillageassociation.org
SUMMARY:Cultural WG webinar - For a Just and Sustainable Space Exploration
DESCRIPTION:Agenda \n\n\n\n\nRemo Rapetti: Introduction\n\n\n\nAaron Boley: The Earth-Moon System and the Need for Coordination\, Cooperation\, and Collaboration\n\n\n\nClaire Nelson: HOW WE SHARE THE MOON: Analog Research as a Modality to Help Ensure Space for All\n\n\n\nLisa Pettibone: Comments and Q&A session\n\n\n\n\nDr. Aaron Boley is an associate professor in the Department of Physics and Astronomy at the University of British Columbia. His research explores a wide range of topics\, including planetary dynamics\, astrophysical discs\, meteoritics\, space sustainability and security\, and space policy.  Before joining the faculty at UBC\, Boley was a NASA Sagan Postdoctoral Fellow at the University of Florida and a postdoctoral researcher at the Institute for Theoretical Physics at the University of Zurich. He is the Co-Director of the Outer Space Institute and co-author of Who Owns Outer Space? International Law\, Astrophysics\, and the Sustainable Development of Space. \n\n\n\nDr. Claire Nelson holds a Bachelors and Masters in Industrial Engineering from the State University of New York at Buffalo and Purdue University\, and a Doctorate in Engineering Management from the George Washington University\, and is an inductee in several Engineering Honor Societies. She was named an Outstanding Alumni of Purdue University School of Industrial Engineering in 2013. A winner of several awards and honors\, Dr. Nelson has received several commendations for leadership in the US Congressional Record and was named a WHITE HOUSE CHAMPION OF CHANGE in 2012. She is the Founder of the Caribbean American Heritage Month and the Ideation Leader of The Futures Forum. She is the author of the book Smart Futures for a Flourishing World. \n\n\n\nRegister for free on Zoom\n\n\n\n\nRegister
URL:https://moonvillageassociation.org/event/cultural-wg-webinar-for-a-just-and-sustainable-space-exploration/
ATTACH;FMTTYPE=image/jpeg:https://moonvillageassociation.org/wp-content/uploads/2024/08/poster-5.jpg
END:VEVENT
BEGIN:VEVENT
DTSTART;TZID=UTC:20240927T150000
DTEND;TZID=UTC:20240927T154500
DTSTAMP:20260424T181140
CREATED:20240905T063630Z
LAST-MODIFIED:20240905T063632Z
UID:8958-1727449200-1727451900@moonvillageassociation.org
SUMMARY:IAC 2024 - Onine GNF - Sustainable Lunar Environment: The Next Challenge
DESCRIPTION:Watch Online
URL:https://moonvillageassociation.org/event/iac-2024-onine-gnf-sustainable-lunar-environment-the-next-challenge/
CATEGORIES:Conferences,Side Events
ATTACH;FMTTYPE=image/jpeg:https://moonvillageassociation.org/wp-content/uploads/2024/09/Screenshot-2024-09-05-093244.jpg
END:VEVENT
END:VCALENDAR