BEGIN:VCALENDAR
VERSION:2.0
PRODID:-//Moon Village Association - ECPv6.15.20//NONSGML v1.0//EN
CALSCALE:GREGORIAN
METHOD:PUBLISH
X-ORIGINAL-URL:https://moonvillageassociation.org
X-WR-CALDESC:Events for Moon Village Association
REFRESH-INTERVAL;VALUE=DURATION:PT1H
X-Robots-Tag:noindex
X-PUBLISHED-TTL:PT1H
BEGIN:VTIMEZONE
TZID:UTC
BEGIN:STANDARD
TZOFFSETFROM:+0000
TZOFFSETTO:+0000
TZNAME:UTC
DTSTART:20240101T000000
END:STANDARD
END:VTIMEZONE
BEGIN:VTIMEZONE
TZID:Europe/Paris
BEGIN:DAYLIGHT
TZOFFSETFROM:+0100
TZOFFSETTO:+0200
TZNAME:CEST
DTSTART:20240331T010000
END:DAYLIGHT
BEGIN:STANDARD
TZOFFSETFROM:+0200
TZOFFSETTO:+0100
TZNAME:CET
DTSTART:20241027T010000
END:STANDARD
BEGIN:DAYLIGHT
TZOFFSETFROM:+0100
TZOFFSETTO:+0200
TZNAME:CEST
DTSTART:20250330T010000
END:DAYLIGHT
BEGIN:STANDARD
TZOFFSETFROM:+0200
TZOFFSETTO:+0100
TZNAME:CET
DTSTART:20251026T010000
END:STANDARD
BEGIN:DAYLIGHT
TZOFFSETFROM:+0100
TZOFFSETTO:+0200
TZNAME:CEST
DTSTART:20260329T010000
END:DAYLIGHT
BEGIN:STANDARD
TZOFFSETFROM:+0200
TZOFFSETTO:+0100
TZNAME:CET
DTSTART:20261025T010000
END:STANDARD
END:VTIMEZONE
BEGIN:VEVENT
DTSTART;TZID=UTC:20250203T080000
DTEND;TZID=UTC:20250214T170000
DTSTAMP:20260424T090556
CREATED:20250120T075413Z
LAST-MODIFIED:20250205T120027Z
UID:9423-1738569600-1739552400@moonvillageassociation.org
SUMMARY:MVA Participation at the COPUOS STSC 62nd Session
DESCRIPTION:
URL:https://moonvillageassociation.org/event/mva-participation-at-the-copuos-stsc-62nd-session/
ATTACH;FMTTYPE=image/jpeg:https://moonvillageassociation.org/wp-content/uploads/2024/12/181123-mvaprinciples-1920x500dddd.jpg
END:VEVENT
BEGIN:VEVENT
DTSTART;TZID=Europe/Paris:20250206T090000
DTEND;TZID=Europe/Paris:20250206T094500
DTSTAMP:20260424T090556
CREATED:20250131T074654Z
LAST-MODIFIED:20250205T115632Z
UID:9474-1738832400-1738835100@moonvillageassociation.org
SUMMARY:STSC Side Event - Lunar Sites of Special Scientific Interest
DESCRIPTION:Stream the Side Event here
URL:https://moonvillageassociation.org/event/stsc-side-event-lunar-sites-of-special-scientific-interest/
CATEGORIES:Side Events
ATTACH;FMTTYPE=image/jpeg:https://moonvillageassociation.org/wp-content/uploads/2025/01/COPUOS-STSC-2025-side-event-01-01-scaled.jpg
END:VEVENT
BEGIN:VEVENT
DTSTART;TZID=Europe/Paris:20250218T170000
DTEND;TZID=Europe/Paris:20250218T183000
DTSTAMP:20260424T090556
CREATED:20250203T085939Z
LAST-MODIFIED:20250217T091350Z
UID:9480-1739898000-1739903400@moonvillageassociation.org
SUMMARY:Cultural Considerations WG Webinar - Afro-Futurism and Space Law
DESCRIPTION:It is not only Western culture that sees space research as an opportunity for knowledge\, improvement of living conditions and satisfaction of the spirit of adventure that has characterized the progress of humanity over the millennia. Even cultures not currently directly involved in the development of space projects have always looked towards the sky and have elaborated theories and legends that have served to keep people’s interest in the stars alive. With this webinar we intend to investigate the special relationship that African artistic creativity has with space and how contemporary artists use their traditions to collaborate on a more just and shared space research. \n\n\n\nFree registration: \n\n\n\nhttps://us02web.zoom.us/webinar/register/WN_P6lnl0eiRp2IT8uko2cTHw \n\n\n\nAgenda \n\n\n\n\nRemo Rapetti: Introduction\n\n\n\nJacque Njeri\, African Futurist\, Artivist & Graphic Designer: Afro-Futurism in Space Culture.\n\n\n\nDr Saskia Vermeylen\, Reader in Law at the University of Strathclyde\, Scotland: Cultural storytelling for the protection of outer space.\n\n\n\nLisa Pettibone: Comments and questions.\n\n\n\n\n \n\n\n\nJacque Njeri is a multifaceted artist and designer currently based in Nairobi\, Kenya\, with a Bachelor of Arts in Design from the University of Nairobi. Her work blends afro-futurism\, culture\, and advocacy\, addressing themes of governance\, youth\, inequality\, and gender justice through a futuristic lens. Globally recognized\, her art has been featured by CNN and BBC and exhibited at events like the Other Futures Festival in Amsterdam and the Kikk Festival in Belgium. Jacque’s practice challenges societal norms and inspires creativity as a tool for meaningful change. \n\n\n\nDr Saskia Vermeylen\, a Reader in Law at the University of Strathclyde\, Scotland\, is a phenomenologist and legal anthropologist whose interdisciplinary research explores the interplay of law\, space\, and cultural expression\, offering a unique perspective on space governance informed by arts theory and practice. She curated the exhibition “EXTR-Activism”\, which highlights artistic critiques of the commercial space race and its focus on mineral extractivism. Dr Vermeylen’s research challenges traditional understandings of space law by elevating artistic practices and theories as critical contributions to jurisprudence. Through her numerous publications\, she addresses key gaps in space governance and critiques the dominance of Eurocentric perspectives within the field.
URL:https://moonvillageassociation.org/event/cultural-considerations-wg-webinar-afro-futurism-and-space-law/
CATEGORIES:Webinars
ATTACH;FMTTYPE=image/jpeg:https://moonvillageassociation.org/wp-content/uploads/2025/02/poster-9.jpg
END:VEVENT
BEGIN:VEVENT
DTSTART;TZID=UTC:20250228T080000
DTEND;TZID=UTC:20250228T170000
DTSTAMP:20260424T090556
CREATED:20250220T125257Z
LAST-MODIFIED:20250220T125300Z
UID:9546-1740729600-1740762000@moonvillageassociation.org
SUMMARY:IAC 2025 - Session D4.2 - Abstract Submission deadline
DESCRIPTION:Contribution of Moon Village to Solving Global Societal Issues Moon Village is a concept that brings together efforts\, world-wide\, from the private sector\, governments\, academics and others to explore and use the Moon in a sustainable manner. Moon Village is a community of projects carried out by stakeholders from different fields (for example\, technical\, scientific\, cultural\, economic) working together. The implementation of the Moon Village has already started with missions and activities in line with its spirit\, It is a major step forward for the peaceful development of humankind.Moon Village can offer a new start to humanity on the Moon and on the Earth by contributing to solve global societal issues. The session will discuss the contributions of the Moon Village to the solution of global challenges (e.g.\, energy\, population\, sustainable development\, many others). How the Moon Village will support the understanding of the global societal issues and bring benefits to society on a global scale will also be discussed. The session will include also the identification of the related technologies that need to be developed. The definition of a roadmap complementary to the UN Agenda 2030 will be also discussed.
URL:https://moonvillageassociation.org/event/iac-2025-session-d4-2-abstract-submission-deadline/
END:VEVENT
END:VCALENDAR