BEGIN:VCALENDAR
VERSION:2.0
PRODID:-//Moon Village Association - ECPv6.15.20//NONSGML v1.0//EN
CALSCALE:GREGORIAN
METHOD:PUBLISH
X-ORIGINAL-URL:https://moonvillageassociation.org
X-WR-CALDESC:Events for Moon Village Association
REFRESH-INTERVAL;VALUE=DURATION:PT1H
X-Robots-Tag:noindex
X-PUBLISHED-TTL:PT1H
BEGIN:VTIMEZONE
TZID:Europe/London
BEGIN:DAYLIGHT
TZOFFSETFROM:+0000
TZOFFSETTO:+0100
TZNAME:BST
DTSTART:20240331T010000
END:DAYLIGHT
BEGIN:STANDARD
TZOFFSETFROM:+0100
TZOFFSETTO:+0000
TZNAME:GMT
DTSTART:20241027T010000
END:STANDARD
BEGIN:DAYLIGHT
TZOFFSETFROM:+0000
TZOFFSETTO:+0100
TZNAME:BST
DTSTART:20250330T010000
END:DAYLIGHT
BEGIN:STANDARD
TZOFFSETFROM:+0100
TZOFFSETTO:+0000
TZNAME:GMT
DTSTART:20251026T010000
END:STANDARD
BEGIN:DAYLIGHT
TZOFFSETFROM:+0000
TZOFFSETTO:+0100
TZNAME:BST
DTSTART:20260329T010000
END:DAYLIGHT
BEGIN:STANDARD
TZOFFSETFROM:+0100
TZOFFSETTO:+0000
TZNAME:GMT
DTSTART:20261025T010000
END:STANDARD
END:VTIMEZONE
BEGIN:VEVENT
DTSTART;TZID=Europe/London:20250324T160000
DTEND;TZID=Europe/London:20250324T170000
DTSTAMP:20260424T071646
CREATED:20250319T093500Z
LAST-MODIFIED:20250320T155811Z
UID:9581-1742832000-1742835600@moonvillageassociation.org
SUMMARY:Neurological changes in Space Mission - Lunar Human Physiology & Biology WG webinar
DESCRIPTION:Topic: Neurological changes in Space Mission \n\n\n\nTime: Mar 24\, 2025 04:00 PM GMT \n\n\n\nFree participation on Zoomhttps://us02web.zoom.us/j/86235276128
URL:https://moonvillageassociation.org/event/neurological-changes-in-space-mission-lunar-human-physiology-biology-wg-webinar/
CATEGORIES:Webinars
END:VEVENT
END:VCALENDAR