BEGIN:VCALENDAR
VERSION:2.0
PRODID:-//Moon Village Association - ECPv6.15.20//NONSGML v1.0//EN
CALSCALE:GREGORIAN
METHOD:PUBLISH
X-WR-CALNAME:Moon Village Association
X-ORIGINAL-URL:https://moonvillageassociation.org
X-WR-CALDESC:Events for Moon Village Association
REFRESH-INTERVAL;VALUE=DURATION:PT1H
X-Robots-Tag:noindex
X-PUBLISHED-TTL:PT1H
BEGIN:VTIMEZONE
TZID:Europe/Paris
BEGIN:DAYLIGHT
TZOFFSETFROM:+0100
TZOFFSETTO:+0200
TZNAME:CEST
DTSTART:20240331T010000
END:DAYLIGHT
BEGIN:STANDARD
TZOFFSETFROM:+0200
TZOFFSETTO:+0100
TZNAME:CET
DTSTART:20241027T010000
END:STANDARD
BEGIN:DAYLIGHT
TZOFFSETFROM:+0100
TZOFFSETTO:+0200
TZNAME:CEST
DTSTART:20250330T010000
END:DAYLIGHT
BEGIN:STANDARD
TZOFFSETFROM:+0200
TZOFFSETTO:+0100
TZNAME:CET
DTSTART:20251026T010000
END:STANDARD
BEGIN:DAYLIGHT
TZOFFSETFROM:+0100
TZOFFSETTO:+0200
TZNAME:CEST
DTSTART:20260329T010000
END:DAYLIGHT
BEGIN:STANDARD
TZOFFSETFROM:+0200
TZOFFSETTO:+0100
TZNAME:CET
DTSTART:20261025T010000
END:STANDARD
END:VTIMEZONE
BEGIN:VTIMEZONE
TZID:Europe/Rome
BEGIN:DAYLIGHT
TZOFFSETFROM:+0100
TZOFFSETTO:+0200
TZNAME:CEST
DTSTART:20240331T010000
END:DAYLIGHT
BEGIN:STANDARD
TZOFFSETFROM:+0200
TZOFFSETTO:+0100
TZNAME:CET
DTSTART:20241027T010000
END:STANDARD
BEGIN:DAYLIGHT
TZOFFSETFROM:+0100
TZOFFSETTO:+0200
TZNAME:CEST
DTSTART:20250330T010000
END:DAYLIGHT
BEGIN:STANDARD
TZOFFSETFROM:+0200
TZOFFSETTO:+0100
TZNAME:CET
DTSTART:20251026T010000
END:STANDARD
BEGIN:DAYLIGHT
TZOFFSETFROM:+0100
TZOFFSETTO:+0200
TZNAME:CEST
DTSTART:20260329T010000
END:DAYLIGHT
BEGIN:STANDARD
TZOFFSETFROM:+0200
TZOFFSETTO:+0100
TZNAME:CET
DTSTART:20261025T010000
END:STANDARD
END:VTIMEZONE
BEGIN:VEVENT
DTSTART;TZID=Europe/Paris:20250509T170000
DTEND;TZID=Europe/Paris:20250509T183000
DTSTAMP:20260424T032135
CREATED:20250411T141730Z
LAST-MODIFIED:20250411T142150Z
UID:9614-1746810000-1746815400@moonvillageassociation.org
SUMMARY:LAST WG webinar - Growing Beyond: Lessons from the Moon for Earth’s Future Farming
DESCRIPTION:Join us for an eye-opening exploration into how plants adapt to life beyond Earth—and what that reveals about the future of food on our own planet. From sealed lunar greenhouses to cosmic radiation challenges\, discover how cultivating crops on the Moon is teaching us to grow smarter\, more resilient food back home. \n\n\n\nWe’ll dive into the science of space agriculture\, uncover breakthroughs in crop sustainability\, and explore how the harshest environments can inspire solutions for climate resilience and food security on Earth. \n\n\n\nIf we can grow food on the Moon—imagine what we can do on Earth. \n\n\n\nRegister on Zoom to participate \n\n\n\n\nRegister \n\n\n\n\nFurther information on Moon Village Association Agriculture working group
URL:https://moonvillageassociation.org/event/last-wg-webinar-growing-beyond-lessons-from-the-moon-for-earths-future-farming/
CATEGORIES:Webinars
ATTACH;FMTTYPE=image/jpeg:https://moonvillageassociation.org/wp-content/uploads/2025/04/last-webinar-poster.jpg
END:VEVENT
BEGIN:VEVENT
DTSTART;TZID=Europe/Rome:20250513T173000
DTEND;TZID=Europe/Rome:20250513T190000
DTSTAMP:20260424T032135
CREATED:20250502T121045Z
LAST-MODIFIED:20250502T121142Z
UID:9658-1747157400-1747162800@moonvillageassociation.org
SUMMARY:Cultural WG webinar - Latin America In Outer Space
DESCRIPTION:Agenda\n\n\n\n\nRemo Rapetti: Introduction\n\n\n\nAnne Warren Johnson: Latin American Engagements with Outer Space: Contradictions and Alternatives\n\n\n\nUmbriel López Avalos: Connections to the Moon: Perspectives from Indigenous Communities in Mexico\n\n\n\nAlejandro Viadas Loyo: Mexico and the Moon in the Future\n\n\n\nComments and questions: Lisa Pettibone\, artist\,& Cristina Luna\, anthropologist\n\n\n\n\n\n\n\n\nRegistration\n\n\n\n\nRegister on Zoom\n\n\n\n\n\n\n\n\nSpeakers\n\n\n\nAnne W. Johnson is a Professor in the Graduate Social Anthropology Program of the Universidad Iberoamericana in Mexico City\, where she teaches classes on science and technology\, the anthropology of futures\, and material culture. She has a Ph.D. in social anthropology from the University of Texas at Austin. Her publications about outer space include articles in the Revista Colombiana de Antropología (2023) and Acta Astronautica (2021)\, as well as chapters in the edited works Exploring Ethnography of Outer Space (Routledge\, 2025)\, Space Feminisms (Routledge\, 2024)\, The Routledge Encyclopedia of the Social Studies of Outer Space (Routledge\, 2023)\, and Southern Space Studies (Springer\, 2002).  Her book From the Cosmic Race to the Space Race on Mexican engagements with outer space is forthcoming with the University of Arizona Press. \n\n\n\nUmbriel López Avalos is the head of the Citizen Participation Department at the Instituto Electoral del Estado de Guanajuato. He holds a B.A. in social anthropology from the Universidad de Guanajuato and is currently pursuing a master’s degree in political analysis at the Division of Law\, Politics\, and Government at the same institution. Since 2019\, he has worked at the Electoral Institute of the state of Guanajuato\, where he currently serves as the head of the Citizen Participation Department\, leading programs focused on addressing the needs of youth in the state of Guanajuato. He is a member of the National Electoral Professional Service\, and his academic research topics focus on the impact of non-institutionalized youth participation in the state’s democratization process\, youth in democracy\, political engagement during adolescence\, systems of political value transmission\, and mechanisms for citizen participation. \n\n\n\nAlejandro Viadas Loyo has a B.A. in International Relations with a focus on Political Analysis from the National Autonomous University of Mexico (UNAM) and is currently pursuing a master’s degree in political analysis at the Universidad de Guanajuato. He is the co-founder and coordinator of the Center for Global Order Studies (CESOG)\, where he conducts research on Mexico’s role in the aerospace value chain\, the Mexican space program\, and new trade routes within a multipolar globalization. He was also a jury member of the Mexican experimental rocketry contest (ENMICE) in 2024.
URL:https://moonvillageassociation.org/event/cultural-wg-webinar-latin-america-in-outer-space/
CATEGORIES:Webinars
END:VEVENT
END:VCALENDAR