BEGIN:VCALENDAR
VERSION:2.0
PRODID:-//Moon Village Association - ECPv6.15.20//NONSGML v1.0//EN
CALSCALE:GREGORIAN
METHOD:PUBLISH
X-WR-CALNAME:Moon Village Association
X-ORIGINAL-URL:https://moonvillageassociation.org
X-WR-CALDESC:Events for Moon Village Association
REFRESH-INTERVAL;VALUE=DURATION:PT1H
X-Robots-Tag:noindex
X-PUBLISHED-TTL:PT1H
BEGIN:VTIMEZONE
TZID:Europe/Rome
BEGIN:DAYLIGHT
TZOFFSETFROM:+0100
TZOFFSETTO:+0200
TZNAME:CEST
DTSTART:20240331T010000
END:DAYLIGHT
BEGIN:STANDARD
TZOFFSETFROM:+0200
TZOFFSETTO:+0100
TZNAME:CET
DTSTART:20241027T010000
END:STANDARD
BEGIN:DAYLIGHT
TZOFFSETFROM:+0100
TZOFFSETTO:+0200
TZNAME:CEST
DTSTART:20250330T010000
END:DAYLIGHT
BEGIN:STANDARD
TZOFFSETFROM:+0200
TZOFFSETTO:+0100
TZNAME:CET
DTSTART:20251026T010000
END:STANDARD
BEGIN:DAYLIGHT
TZOFFSETFROM:+0100
TZOFFSETTO:+0200
TZNAME:CEST
DTSTART:20260329T010000
END:DAYLIGHT
BEGIN:STANDARD
TZOFFSETFROM:+0200
TZOFFSETTO:+0100
TZNAME:CET
DTSTART:20261025T010000
END:STANDARD
END:VTIMEZONE
BEGIN:VEVENT
DTSTART;TZID=Europe/Rome:20250909T170000
DTEND;TZID=Europe/Rome:20250909T180000
DTSTAMP:20260423T195518
CREATED:20250905T141506Z
LAST-MODIFIED:20250906T141543Z
UID:9829-1757437200-1757440800@moonvillageassociation.org
SUMMARY:From Vision to Orbit: A Prelude to MVA Workshop and Symposium 2025
DESCRIPTION:We are pleased to invite you to take part in the event “From Vision to Orbit: A Prelude to MVA Workshop and Symposium 2025”\, organized by the Moon Village Association (MVA) and the Italian Association of Aeronautics and Astronautics (AIDAA). \n\n\n\nDate: September 9\, 2025 \n\n\n\nTime: 17:00–18:00 (CET) \n\n\n\nOnline participation (Microsoft Teams): Click here to join \n\n\n\nIn-person participation: Meeting room\, 3rd floor\, Department of Mechanical and Aerospace Engineering\, Politecnico di Torino\, Corso Duca degli Abruzzi 24\, Turin (limited seats\, please confirm at enrico.zappino@polito.it) \n\n\n\nDuring the meeting\, the MVA Workshop & Symposium\, which will be held in Turin on December 3–4\, 2025\, will be presented. It will also be possible to discuss: \n\n\n\n\npotential synergies\,\n\n\n\nways of active participation\,\n\n\n\nopportunities for sponsorship.\n\n\n\n\nThe event will take place alongside the CEAS/AIDAA Conference and the Aerospace & Defense Meeting in Turin\, thus representing a unique opportunity for visibility and networking with key players in the sector. \n\n\n\nWe would be delighted with your participation and your contribution to the discussion. For any clarification or to arrange a direct contact\, please feel free to reach out.
URL:https://moonvillageassociation.org/event/from-vision-to-orbit-a-prelude-to-mva-workshop-and-symposium-2025/
ATTACH;FMTTYPE=image/png:https://moonvillageassociation.org/wp-content/uploads/2025/09/image_2025-09-06_171438552.png
END:VEVENT
END:VCALENDAR