BEGIN:VCALENDAR
VERSION:2.0
PRODID:-//Moon Village Association - ECPv6.15.20//NONSGML v1.0//EN
CALSCALE:GREGORIAN
METHOD:PUBLISH
X-WR-CALNAME:Moon Village Association
X-ORIGINAL-URL:https://moonvillageassociation.org
X-WR-CALDESC:Events for Moon Village Association
REFRESH-INTERVAL;VALUE=DURATION:PT1H
X-Robots-Tag:noindex
X-PUBLISHED-TTL:PT1H
BEGIN:VTIMEZONE
TZID:Australia/Sydney
BEGIN:STANDARD
TZOFFSETFROM:+1100
TZOFFSETTO:+1000
TZNAME:AEST
DTSTART:20240406T160000
END:STANDARD
BEGIN:DAYLIGHT
TZOFFSETFROM:+1000
TZOFFSETTO:+1100
TZNAME:AEDT
DTSTART:20241005T160000
END:DAYLIGHT
BEGIN:STANDARD
TZOFFSETFROM:+1100
TZOFFSETTO:+1000
TZNAME:AEST
DTSTART:20250405T160000
END:STANDARD
BEGIN:DAYLIGHT
TZOFFSETFROM:+1000
TZOFFSETTO:+1100
TZNAME:AEDT
DTSTART:20251004T160000
END:DAYLIGHT
BEGIN:STANDARD
TZOFFSETFROM:+1100
TZOFFSETTO:+1000
TZNAME:AEST
DTSTART:20260404T160000
END:STANDARD
BEGIN:DAYLIGHT
TZOFFSETFROM:+1000
TZOFFSETTO:+1100
TZNAME:AEDT
DTSTART:20261003T160000
END:DAYLIGHT
END:VTIMEZONE
BEGIN:VEVENT
DTSTART;TZID=Australia/Sydney:20251002T140000
DTEND;TZID=Australia/Sydney:20251002T170000
DTSTAMP:20260423T182732
CREATED:20250826T104546Z
LAST-MODIFIED:20250920T060005Z
UID:9824-1759413600-1759424400@moonvillageassociation.org
SUMMARY:MVA Meetings at IAC 2025
DESCRIPTION:Thursday 2 October\, in Room E3.6\, located on the third floor of the Exhibition Centre\n\n\n\n14:00-14:45: Workshop 2025 IPC Meeting\n\n\n\n \n\n\n\n14:45-15:30: MVA General meeting\, open to everyone\n\n\n\n\nIntroduction\n\n\n\nIndustry WG Status/Outlook\n\n\n\nIMD25 Status/Outlook \n\n\n\nOutreach/Academy/MVA Workshop \n\n\n\nGEGSLA status/outlook \n\n\n\nAOB\n\n\n\n\n15:30-16:50: GEGSLA face-to-face meeting\, including WGs specific discussions \n\n\n\n17:00: Conclusion
URL:https://moonvillageassociation.org/event/mva-meetings-at-iac-2025/
CATEGORIES:Side Events
ATTACH;FMTTYPE=image/png:https://moonvillageassociation.org/wp-content/uploads/2025/08/mva.png
END:VEVENT
END:VCALENDAR